BEGIN:VCALENDAR
VERSION:2.0
PRODID:-//wp-events-plugin.com//7.2.3.1//EN
TZID:Europe/Amsterdam
X-WR-TIMEZONE:Europe/Amsterdam
BEGIN:VEVENT
UID:7775@buurtcentrumkalsdonk.nl
DTSTART;TZID=Europe/Amsterdam:20260817T130000
DTEND;TZID=Europe/Amsterdam:20260817T140000
DTSTAMP:20251229T190206Z
URL:https://www.buurtcentrumkalsdonk.nl/agenda/beweegmoment-2-2026-01-05-2
 026-01-12-2026-01-19-2026-01-26-2026-02-02-2026-02-09-2026-02-16-2026-02-2
 3-2026-03-02-2026-03-09-2026-03-16-2026-03-23-2026-03-30-2026-04-06-2026-0
 4-13-2026-0-10-2026-08-17/
SUMMARY:Beweegmoment
DESCRIPTION:Elke maandag 13.00u-14.00u\nDit is een beweegmoment vanuit de s
 tamtafel waar ook andere senioren uit de wijk bij aan kunnen sluiten.\nEr 
 worden hierbij verschillende creatieve spel- en beweegvormen aangeboden!
CATEGORIES:Beweging,Sociaal
END:VEVENT
BEGIN:VTIMEZONE
TZID:Europe/Amsterdam
X-LIC-LOCATION:Europe/Amsterdam
BEGIN:DAYLIGHT
DTSTART:20260329T030000
TZOFFSETFROM:+0100
TZOFFSETTO:+0200
TZNAME:CEST
END:DAYLIGHT
END:VTIMEZONE
END:VCALENDAR