BEGIN:VCALENDAR
VERSION:2.0
PRODID:-//wp-events-plugin.com//7.2.3.1//EN
TZID:Europe/Amsterdam
X-WR-TIMEZONE:Europe/Amsterdam
BEGIN:VEVENT
UID:7624@buurtcentrumkalsdonk.nl
DTSTART;TZID=Europe/Amsterdam:20260423T190000
DTEND;TZID=Europe/Amsterdam:20260423T203000
DTSTAMP:20251230T113201Z
URL:https://www.buurtcentrumkalsdonk.nl/agenda/bewegen-op-muziek-2026-04-2
 3/
SUMMARY:Bewegen op Muziek
DESCRIPTION:Om de week op donderdagavond van 19.00u tot 20.30u\, afgewissel
 d met spelletjesavond op de andere week.\nKom dansen in een veilige omgevi
 ng met vrouwen 40+. \nVoel het ritme de muziek\, ontspan\, beweeg\, maak p
 lezier en geniet. \nMeedoen alleen na opgave.\n\n\n[caption id="attachment
 _9815" align="alignleft" width="212"] Tik op de afbeelding voor een groter
  exemplaar[/caption]
CATEGORIES:Beweging
END:VEVENT
BEGIN:VTIMEZONE
TZID:Europe/Amsterdam
X-LIC-LOCATION:Europe/Amsterdam
BEGIN:DAYLIGHT
DTSTART:20260329T030000
TZOFFSETFROM:+0100
TZOFFSETTO:+0200
TZNAME:CEST
END:DAYLIGHT
END:VTIMEZONE
END:VCALENDAR