BEGIN:VCALENDAR
VERSION:2.0
PRODID:-//wp-events-plugin.com//7.2.3.1//EN
TZID:Europe/Amsterdam
X-WR-TIMEZONE:Europe/Amsterdam
BEGIN:VEVENT
UID:8677@buurtcentrumkalsdonk.nl
DTSTART;TZID=Europe/Amsterdam:20261105T190000
DTEND;TZID=Europe/Amsterdam:20261105T203000
DTSTAMP:20251230T113201Z
URL:https://www.buurtcentrumkalsdonk.nl/agenda/bewegen-op-muziek-2026-07-0
 2-2026-07-09-2026-07-16-2026-07-23-2026-07-30-2026-08-06-2026-08-13-2026-0
 8-20-2026-08-27-2026-09-03-2026-09-10-2026-09-17-2026-09-24-2026-10-01-202
 6-10-08-202-29-2026-11-05/
SUMMARY:Bewegen op Muziek
DESCRIPTION:Om de week op donderdagavond van 19.00u tot 20.30u\, afgewissel
 d met spelletjesavond op de andere week.\nKom dansen in een veilige omgevi
 ng met vrouwen 40+. \nVoel het ritme de muziek\, ontspan\, beweeg\, maak p
 lezier en geniet. \nMeedoen alleen na opgave.\n\n\n[caption id="attachment
 _9815" align="alignleft" width="212"] Tik op de afbeelding voor een groter
  exemplaar[/caption]
CATEGORIES:Beweging
END:VEVENT
BEGIN:VTIMEZONE
TZID:Europe/Amsterdam
X-LIC-LOCATION:Europe/Amsterdam
BEGIN:STANDARD
DTSTART:20261025T020000
TZOFFSETFROM:+0200
TZOFFSETTO:+0100
TZNAME:CET
END:STANDARD
END:VTIMEZONE
END:VCALENDAR