BEGIN:VCALENDAR
VERSION:2.0
PRODID:-//wp-events-plugin.com//7.2.3.1//EN
TZID:Europe/Amsterdam
X-WR-TIMEZONE:Europe/Amsterdam
BEGIN:VEVENT
UID:8193@buurtcentrumkalsdonk.nl
DTSTART;TZID=Europe/Amsterdam:20261103T133000
DTEND;TZID=Europe/Amsterdam:20261103T160000
DTSTAMP:20251229T192851Z
URL:https://www.buurtcentrumkalsdonk.nl/agenda/bingo-3-2026-01-06-2026-01-
 13-2026-01-20-2026-01-27-2026-02-03-2026-02-10-2026-02-17-2026-02-24-2026-
 03-03-2026-03-10-2026-03-17-2026-03-24-2026-03-31-2026-04-07-2026-04-14-20
 26-04-21-20-27-2026-11-03/
SUMMARY:Bingo
DESCRIPTION:Dinsdag van 13.30u tot 16.00u\nOp dinsdagmiddag wordt wekelijks
  een gezellige bingo georganiseerd. De inloop is vanaf 13.00 uur.\nDe bing
 o start om 13.30 uur en duurt tot ongeveer 16.00 uur. Er zijn leuke prijze
 n te winnen en meedoen kost een lootje per keer (eigen kosten).\nHet is vr
 ije inloop\, inschrijven is dus niet nodig.
CATEGORIES:Sport&amp;Spel
END:VEVENT
BEGIN:VTIMEZONE
TZID:Europe/Amsterdam
X-LIC-LOCATION:Europe/Amsterdam
BEGIN:STANDARD
DTSTART:20261025T020000
TZOFFSETFROM:+0200
TZOFFSETTO:+0100
TZNAME:CET
END:STANDARD
END:VTIMEZONE
END:VCALENDAR