BEGIN:VCALENDAR
VERSION:2.0
PRODID:-//wp-events-plugin.com//7.2.3.1//EN
TZID:Europe/Amsterdam
X-WR-TIMEZONE:Europe/Amsterdam
BEGIN:VEVENT
UID:6181@buurtcentrumkalsdonk.nl
DTSTART;TZID=Europe/Amsterdam:20250327T190000
DTEND;TZID=Europe/Amsterdam:20250327T230000
DTSTAMP:20250103T211337Z
URL:https://www.buurtcentrumkalsdonk.nl/agenda/bridge-club-2025-03-27/
SUMMARY:Bridgen
DESCRIPTION:Donderdag 19.00u-23.00u
CATEGORIES:Sport&amp;Spel
END:VEVENT
BEGIN:VTIMEZONE
TZID:Europe/Amsterdam
X-LIC-LOCATION:Europe/Amsterdam
BEGIN:STANDARD
DTSTART:20241027T020000
TZOFFSETFROM:+0200
TZOFFSETTO:+0100
TZNAME:CET
END:STANDARD
END:VTIMEZONE
END:VCALENDAR