BEGIN:VCALENDAR
VERSION:2.0
PRODID:-//wp-events-plugin.com//7.2.3.1//EN
TZID:Europe/Amsterdam
X-WR-TIMEZONE:Europe/Amsterdam
BEGIN:VEVENT
UID:6265@buurtcentrumkalsdonk.nl
DTSTART;TZID=Europe/Amsterdam:20250128T190000
DTEND;TZID=Europe/Amsterdam:20250128T230000
DTSTAMP:20250103T211404Z
URL:https://www.buurtcentrumkalsdonk.nl/agenda/bridgen-2025-01-28/
SUMMARY:Bridgen
DESCRIPTION:Dinsdag 19.00u-23.00u
CATEGORIES:Sport&amp;Spel
END:VEVENT
BEGIN:VTIMEZONE
TZID:Europe/Amsterdam
X-LIC-LOCATION:Europe/Amsterdam
BEGIN:STANDARD
DTSTART:20241027T020000
TZOFFSETFROM:+0200
TZOFFSETTO:+0100
TZNAME:CET
END:STANDARD
END:VTIMEZONE
END:VCALENDAR