BEGIN:VCALENDAR
VERSION:2.0
PRODID:-//wp-events-plugin.com//7.2.3.1//EN
TZID:Europe/Amsterdam
X-WR-TIMEZONE:Europe/Amsterdam
BEGIN:VEVENT
UID:9094@buurtcentrumkalsdonk.nl
DTSTART;TZID=Europe/Amsterdam:20260116T100000
DTEND;TZID=Europe/Amsterdam:20260116T110000
DTSTAMP:20251230T115533Z
URL:https://www.buurtcentrumkalsdonk.nl/agenda/buurthuisraad-2026-01-09-20
 26-01-16/
SUMMARY:Buurthuisraad
DESCRIPTION:1 keer per maand op vrijdag overleg van de buurthuisraad.\nDe p
 recieze datum wordt vooraf onderling vastgesteld.
CATEGORIES:Welzijn
END:VEVENT
BEGIN:VTIMEZONE
TZID:Europe/Amsterdam
X-LIC-LOCATION:Europe/Amsterdam
BEGIN:STANDARD
DTSTART:20251026T020000
TZOFFSETFROM:+0200
TZOFFSETTO:+0100
TZNAME:CET
END:STANDARD
END:VTIMEZONE
END:VCALENDAR