BEGIN:VCALENDAR
VERSION:2.0
PRODID:-//wp-events-plugin.com//7.2.3.1//EN
TZID:Europe/Amsterdam
X-WR-TIMEZONE:Europe/Amsterdam
BEGIN:VEVENT
UID:9196@buurtcentrumkalsdonk.nl
DTSTART;TZID=Europe/Amsterdam:20260211T133000
DTEND;TZID=Europe/Amsterdam:20260211T163000
DTSTAMP:20260109T192853Z
URL:https://www.buurtcentrumkalsdonk.nl/agenda/carnavalsmiddag-40/
SUMMARY:Carnavalsmiddag 40+
DESCRIPTION:\n\n&nbsp\;\n\n&nbsp\;\n\n&nbsp\;\n\n&nbsp\;\n\n&nbsp\;\n\n&nbs
 p\;\n\n&nbsp\;\n\nTik op de afbeelding voor een groter exemplaar
CATEGORIES:Sociaal
END:VEVENT
BEGIN:VTIMEZONE
TZID:Europe/Amsterdam
X-LIC-LOCATION:Europe/Amsterdam
BEGIN:STANDARD
DTSTART:20251026T020000
TZOFFSETFROM:+0200
TZOFFSETTO:+0100
TZNAME:CET
END:STANDARD
END:VTIMEZONE
END:VCALENDAR