BEGIN:VCALENDAR
VERSION:2.0
PRODID:-//wp-events-plugin.com//7.2.3.1//EN
TZID:Europe/Amsterdam
X-WR-TIMEZONE:Europe/Amsterdam
BEGIN:VEVENT
UID:8058@buurtcentrumkalsdonk.nl
DTSTART;TZID=Europe/Amsterdam:20260317T093000
DTEND;TZID=Europe/Amsterdam:20260317T110000
DTSTAMP:20251229T192423Z
URL:https://www.buurtcentrumkalsdonk.nl/agenda/digi-taal-taaloefengroep-3-
 2026-01-06-2026-01-13-2026-01-20-2026-01-27-2026-02-03-2026-02-10-2026-02-
 17-2026-02-24-2026-03-03-2026-03-10-2026-03-17/
SUMMARY:Digi-Taal Taaloefengroep
DESCRIPTION:Dinsdag 09.30u-11.00u
CATEGORIES:Educatie
END:VEVENT
BEGIN:VTIMEZONE
TZID:Europe/Amsterdam
X-LIC-LOCATION:Europe/Amsterdam
BEGIN:STANDARD
DTSTART:20251026T020000
TZOFFSETFROM:+0200
TZOFFSETTO:+0100
TZNAME:CET
END:STANDARD
END:VTIMEZONE
END:VCALENDAR