BEGIN:VCALENDAR
VERSION:2.0
PRODID:-//wp-events-plugin.com//7.2.3.1//EN
TZID:Europe/Amsterdam
X-WR-TIMEZONE:Europe/Amsterdam
BEGIN:VEVENT
UID:8049@buurtcentrumkalsdonk.nl
DTSTART;TZID=Europe/Amsterdam:20260113T093000
DTEND;TZID=Europe/Amsterdam:20260113T110000
DTSTAMP:20251229T192423Z
URL:https://www.buurtcentrumkalsdonk.nl/agenda/digi-taal-taaloefengroep-3-
 2026-01-06-2026-01-13/
SUMMARY:Digi-Taal Taaloefengroep
DESCRIPTION:Dinsdag 09.30u-11.00u
CATEGORIES:Educatie
END:VEVENT
BEGIN:VTIMEZONE
TZID:Europe/Amsterdam
X-LIC-LOCATION:Europe/Amsterdam
BEGIN:STANDARD
DTSTART:20251026T020000
TZOFFSETFROM:+0200
TZOFFSETTO:+0100
TZNAME:CET
END:STANDARD
END:VTIMEZONE
END:VCALENDAR