BEGIN:VCALENDAR
VERSION:2.0
PRODID:-//wp-events-plugin.com//7.2.3.1//EN
TZID:Europe/Amsterdam
X-WR-TIMEZONE:Europe/Amsterdam
BEGIN:VEVENT
UID:7686@buurtcentrumkalsdonk.nl
DTSTART;TZID=Europe/Amsterdam:20261120T090000
DTEND;TZID=Europe/Amsterdam:20261120T113000
DTSTAMP:20251229T185531Z
URL:https://www.buurtcentrumkalsdonk.nl/agenda/hobby-club-2-2026-01-09-202
 6-01-16-2026-01-23-2026-01-30-2026-02-06-2026-02-13-2026-02-20-2026-02-27-
 2026-03-06-2026-03-13-2026-03-20-2026-03-27-2026-04-03-2026-04-10-2026-04-
 17-2026-04-13-2026-11-20/
SUMMARY:Hobby club
DESCRIPTION:Dinsdag 09.30u-11.30u\nVrijdag 09.00u-11.30u\n\n\n\nWij zijn ee
 n gezellige club met verschillende dames die handwerken.\nOp dinsdag en/of
  vrijdagochtend van 9.30 tot 11.30 komen we bij elkaar.\nBreng je eigen ha
 ndwerk mee\, alles mag\, niets moet.\nWe kletsen gezellig en helpen elkaar
  waar nodig is.\nGraag tot ziens bij de hobbyclub!
CATEGORIES:Sociaal
END:VEVENT
BEGIN:VTIMEZONE
TZID:Europe/Amsterdam
X-LIC-LOCATION:Europe/Amsterdam
BEGIN:STANDARD
DTSTART:20261025T020000
TZOFFSETFROM:+0200
TZOFFSETTO:+0100
TZNAME:CET
END:STANDARD
END:VTIMEZONE
END:VCALENDAR