BEGIN:VCALENDAR
VERSION:2.0
PRODID:-//wp-events-plugin.com//7.2.3.1//EN
TZID:Europe/Amsterdam
X-WR-TIMEZONE:Europe/Amsterdam
BEGIN:VEVENT
UID:8133@buurtcentrumkalsdonk.nl
DTSTART;TZID=Europe/Amsterdam:20260901T093000
DTEND;TZID=Europe/Amsterdam:20260901T113000
DTSTAMP:20251229T192550Z
URL:https://www.buurtcentrumkalsdonk.nl/agenda/hobby-club-5-2026-01-06-202
 6-01-13-2026-01-20-2026-01-27-2026-02-03-2026-02-10-2026-02-17-2026-02-24-
 2026-03-03-2026-03-10-2026-03-17-2026-03-24-2026-03-31-2026-04-07-2026-04-
 14-2026-04-25-2026-09-01/
SUMMARY:Hobby club
DESCRIPTION:Dinsdag 09.30u-11.30u\nVrijdag 09.00u-11.30u\n\n\n\nWij zijn ee
 n gezellige club met verschillende dames die handwerken.\nOp dinsdag en/of
  vrijdagochtend van 9.30 tot 11.30 komen we bij elkaar.\nBreng je eigen ha
 ndwerk mee\, alles mag\, niets moet.\nWe kletsen gezellig en helpen elkaar
  waar nodig is.\nGraag tot ziens bij de hobbyclub!
CATEGORIES:Sociaal
END:VEVENT
BEGIN:VTIMEZONE
TZID:Europe/Amsterdam
X-LIC-LOCATION:Europe/Amsterdam
BEGIN:DAYLIGHT
DTSTART:20260329T030000
TZOFFSETFROM:+0100
TZOFFSETTO:+0200
TZNAME:CEST
END:DAYLIGHT
END:VTIMEZONE
END:VCALENDAR