BEGIN:VCALENDAR
VERSION:2.0
PRODID:-//wp-events-plugin.com//7.2.3.1//EN
TZID:Europe/Amsterdam
X-WR-TIMEZONE:Europe/Amsterdam
BEGIN:VEVENT
UID:4929@buurtcentrumkalsdonk.nl
DTSTART;TZID=Europe/Amsterdam:20250321T090000
DTEND;TZID=Europe/Amsterdam:20250321T160000
DTSTAMP:20250103T210449Z
URL:https://www.buurtcentrumkalsdonk.nl/agenda/inburgeringscursus-3-2025-0
 3-21/
SUMMARY:Inburgeringscursus
DESCRIPTION:Maandag: 09.00u-12.00u\nDinsdag: 13.00u-16.00u\nWoensdag: 13.00
 u-16.00u\nVrijdag: 09.00u-16.00u
CATEGORIES:Educatie
END:VEVENT
BEGIN:VTIMEZONE
TZID:Europe/Amsterdam
X-LIC-LOCATION:Europe/Amsterdam
BEGIN:STANDARD
DTSTART:20241027T020000
TZOFFSETFROM:+0200
TZOFFSETTO:+0100
TZNAME:CET
END:STANDARD
END:VTIMEZONE
END:VCALENDAR