BEGIN:VCALENDAR
VERSION:2.0
PRODID:-//wp-events-plugin.com//7.2.3.1//EN
TZID:Europe/Amsterdam
X-WR-TIMEZONE:Europe/Amsterdam
BEGIN:VEVENT
UID:8024@buurtcentrumkalsdonk.nl
DTSTART;TZID=Europe/Amsterdam:20260713T090000
DTEND;TZID=Europe/Amsterdam:20260713T120000
DTSTAMP:20251229T191557Z
URL:https://www.buurtcentrumkalsdonk.nl/agenda/inburgeringscursus-9-2026-0
 1-05-2026-01-12-2026-01-19-2026-01-26-2026-02-02-2026-02-09-2026-02-16-202
 6-02-23-2026-03-02-2026-03-09-2026-03-16-2026-03-23-2026-03-30-2026-04-06-
 2026-04-13-06-2026-07-13/
SUMMARY:Inburgeringscursus
DESCRIPTION:Maandag: 09.00u-12.00u
CATEGORIES:Educatie
END:VEVENT
BEGIN:VTIMEZONE
TZID:Europe/Amsterdam
X-LIC-LOCATION:Europe/Amsterdam
BEGIN:DAYLIGHT
DTSTART:20260329T030000
TZOFFSETFROM:+0100
TZOFFSETTO:+0200
TZNAME:CEST
END:DAYLIGHT
END:VTIMEZONE
END:VCALENDAR