BEGIN:VCALENDAR
VERSION:2.0
PRODID:-//wp-events-plugin.com//7.2.3.1//EN
TZID:Europe/Amsterdam
X-WR-TIMEZONE:Europe/Amsterdam
BEGIN:VEVENT
UID:7503@buurtcentrumkalsdonk.nl
DTSTART;TZID=Europe/Amsterdam:20250922T100000
DTEND;TZID=Europe/Amsterdam:20250922T120000
DTSTAMP:20250815T092311Z
URL:https://www.buurtcentrumkalsdonk.nl/agenda/informatiebijeenkomst-valpr
 eventie/
SUMMARY:Informatiebijeenkomst Valpreventie
DESCRIPTION:\n\nMaandag 22 september van 10.00-12.00uur\nDe cursus start op
  maandag 29 september en vindt wekelijks plaats van 11.00 tot 12.00uur.
CATEGORIES:Beweging,Educatie,Welzijn
END:VEVENT
BEGIN:VTIMEZONE
TZID:Europe/Amsterdam
X-LIC-LOCATION:Europe/Amsterdam
BEGIN:DAYLIGHT
DTSTART:20250330T030000
TZOFFSETFROM:+0100
TZOFFSETTO:+0200
TZNAME:CEST
END:DAYLIGHT
END:VTIMEZONE
END:VCALENDAR