BEGIN:VCALENDAR
VERSION:2.0
PRODID:-//wp-events-plugin.com//7.2.3.1//EN
TZID:Europe/Amsterdam
X-WR-TIMEZONE:Europe/Amsterdam
BEGIN:VEVENT
UID:7497@buurtcentrumkalsdonk.nl
DTSTART;TZID=Europe/Amsterdam:20250714T190000
DTEND;TZID=Europe/Amsterdam:20250714T190000
DTSTAMP:20250708T124247Z
URL:https://www.buurtcentrumkalsdonk.nl/agenda/jeu-de-boules-2025-07-14/
SUMMARY:Jeu de Boules
DESCRIPTION:Kalsdonks Plekske\nElke maandagavond in de zomervakantie spelen
  we jeu de boules.\nJe bent dan van harte welkom vanaf 19u om mee te spele
 n of de andere spelers te supporten!
CATEGORIES:Beweging,Sociaal,Sport&amp;Spel
END:VEVENT
BEGIN:VTIMEZONE
TZID:Europe/Amsterdam
X-LIC-LOCATION:Europe/Amsterdam
BEGIN:DAYLIGHT
DTSTART:20250330T030000
TZOFFSETFROM:+0100
TZOFFSETTO:+0200
TZNAME:CEST
END:DAYLIGHT
END:VTIMEZONE
END:VCALENDAR