BEGIN:VCALENDAR
VERSION:2.0
PRODID:-//wp-events-plugin.com//7.2.3.1//EN
TZID:Europe/Amsterdam
X-WR-TIMEZONE:Europe/Amsterdam
BEGIN:VEVENT
UID:8426@buurtcentrumkalsdonk.nl
DTSTART;TZID=Europe/Amsterdam:20260603T130000
DTEND;TZID=Europe/Amsterdam:20260603T140000
DTSTAMP:20251229T194108Z
URL:https://www.buurtcentrumkalsdonk.nl/agenda/jongeren-inloop-10-13-jaar-
 2026-01-07-2026-01-14-2026-01-21-2026-01-28-2026-02-04-2026-02-11-2026-02-
 18-2026-02-25-2026-03-04-2026-03-11-2026-03-18-2026-03-25-2026-04-01-2026-
 04-08-2026-27-2026-06-03/
SUMMARY:Jongeren Inloop (10-13 jaar)
DESCRIPTION:Woensdag 13.00-14.00 uur
CATEGORIES:Jongeren
END:VEVENT
BEGIN:VTIMEZONE
TZID:Europe/Amsterdam
X-LIC-LOCATION:Europe/Amsterdam
BEGIN:DAYLIGHT
DTSTART:20260329T030000
TZOFFSETFROM:+0100
TZOFFSETTO:+0200
TZNAME:CEST
END:DAYLIGHT
END:VTIMEZONE
END:VCALENDAR