BEGIN:VCALENDAR
VERSION:2.0
PRODID:-//wp-events-plugin.com//7.2.3.1//EN
TZID:Europe/Amsterdam
X-WR-TIMEZONE:Europe/Amsterdam
BEGIN:VEVENT
UID:8297@buurtcentrumkalsdonk.nl
DTSTART;TZID=Europe/Amsterdam:20261118T190000
DTEND;TZID=Europe/Amsterdam:20261118T230000
DTSTAMP:20251229T193515Z
URL:https://www.buurtcentrumkalsdonk.nl/agenda/jongerenavond-2-2026-11-18/
SUMMARY:Jongerenavond
DESCRIPTION:Woensdag 19.00u-23.00u
CATEGORIES:Jongeren
END:VEVENT
BEGIN:VTIMEZONE
TZID:Europe/Amsterdam
X-LIC-LOCATION:Europe/Amsterdam
BEGIN:STANDARD
DTSTART:20261025T020000
TZOFFSETFROM:+0200
TZOFFSETTO:+0100
TZNAME:CET
END:STANDARD
END:VTIMEZONE
END:VCALENDAR