BEGIN:VCALENDAR
VERSION:2.0
PRODID:-//wp-events-plugin.com//7.2.3.1//EN
TZID:Europe/Amsterdam
X-WR-TIMEZONE:Europe/Amsterdam
BEGIN:VEVENT
UID:2001@buurtcentrumkalsdonk.nl
DTSTART;TZID=Europe/Amsterdam:20240515T190000
DTEND;TZID=Europe/Amsterdam:20240515T230000
DTSTAMP:20231124T211801Z
URL:https://www.buurtcentrumkalsdonk.nl/agenda/jongerenavond-2024-05-15/
SUMMARY:Jongerenavond
DESCRIPTION:Woensdag 19.00u-22.00u
CATEGORIES:Jongeren
END:VEVENT
BEGIN:VTIMEZONE
TZID:Europe/Amsterdam
X-LIC-LOCATION:Europe/Amsterdam
BEGIN:DAYLIGHT
DTSTART:20240331T030000
TZOFFSETFROM:+0100
TZOFFSETTO:+0200
TZNAME:CEST
END:DAYLIGHT
END:VTIMEZONE
END:VCALENDAR