BEGIN:VCALENDAR
VERSION:2.0
PRODID:-//wp-events-plugin.com//7.2.3.1//EN
TZID:Europe/Amsterdam
X-WR-TIMEZONE:Europe/Amsterdam
BEGIN:VEVENT
UID:8326@buurtcentrumkalsdonk.nl
DTSTART;TZID=Europe/Amsterdam:20260623T190000
DTEND;TZID=Europe/Amsterdam:20260623T230000
DTSTAMP:20251229T193433Z
URL:https://www.buurtcentrumkalsdonk.nl/agenda/jongerenavond-3-2026-01-06-
 2026-01-13-2026-01-20-2026-01-27-2026-02-03-2026-02-10-2026-02-17-2026-02-
 24-2026-03-03-2026-03-10-2026-03-17-2026-03-24-2026-03-31-2026-04-07-2026-
 04-14-2026-16-2026-06-23/
SUMMARY:Jongerenavond
DESCRIPTION:Dinsdag 19.00u-23.00u
CATEGORIES:Jongeren
END:VEVENT
BEGIN:VTIMEZONE
TZID:Europe/Amsterdam
X-LIC-LOCATION:Europe/Amsterdam
BEGIN:DAYLIGHT
DTSTART:20260329T030000
TZOFFSETFROM:+0100
TZOFFSETTO:+0200
TZNAME:CEST
END:DAYLIGHT
END:VTIMEZONE
END:VCALENDAR