BEGIN:VCALENDAR
VERSION:2.0
PRODID:-//wp-events-plugin.com//7.2.3.1//EN
TZID:Europe/Amsterdam
X-WR-TIMEZONE:Europe/Amsterdam
BEGIN:VEVENT
UID:8303@buurtcentrumkalsdonk.nl
DTSTART;TZID=Europe/Amsterdam:20260113T190000
DTEND;TZID=Europe/Amsterdam:20260113T230000
DTSTAMP:20251229T193433Z
URL:https://www.buurtcentrumkalsdonk.nl/agenda/jongerenavond-3-2026-01-06-
 2026-01-13/
SUMMARY:Jongerenavond
DESCRIPTION:Dinsdag 19.00u-23.00u
CATEGORIES:Jongeren
END:VEVENT
BEGIN:VTIMEZONE
TZID:Europe/Amsterdam
X-LIC-LOCATION:Europe/Amsterdam
BEGIN:STANDARD
DTSTART:20251026T020000
TZOFFSETFROM:+0200
TZOFFSETTO:+0100
TZNAME:CET
END:STANDARD
END:VTIMEZONE
END:VCALENDAR