BEGIN:VCALENDAR
VERSION:2.0
PRODID:-//wp-events-plugin.com//7.2.3.1//EN
TZID:Europe/Amsterdam
X-WR-TIMEZONE:Europe/Amsterdam
BEGIN:VEVENT
UID:9063@buurtcentrumkalsdonk.nl
DTSTART;TZID=Europe/Amsterdam:20260605T130000
DTEND;TZID=Europe/Amsterdam:20260605T170000
DTSTAMP:20251230T115119Z
URL:https://www.buurtcentrumkalsdonk.nl/agenda/kaartmiddag-3-2026-01-09-20
 26-01-16-2026-01-23-2026-01-30-2026-02-06-2026-02-13-2026-02-20-2026-02-27
 -2026-03-06-2026-03-13-2026-03-20-2026-03-27-2026-04-03-2026-04-10-2026-04
 -17-2026-04-29-2026-06-05/
SUMMARY:Kaartmiddag
DESCRIPTION:Vrijdag 13.00u-17.00u\nIedere vrijdagmiddag wordt er van 13.00 
 uur tot ongeveer 17.00 uur door een groep van ongeveer 15 mensen gekaart.\
 nEr worden 3×8 potjes gespeeld. En tussendoor wordt er gezellig wat geget
 en en gedronken.\nPer keer wordt er een kleine bijdrage verwacht (minder d
 an de prijs van een kop koffie).\n\n\n\n
CATEGORIES:Sport&amp;Spel
END:VEVENT
BEGIN:VTIMEZONE
TZID:Europe/Amsterdam
X-LIC-LOCATION:Europe/Amsterdam
BEGIN:DAYLIGHT
DTSTART:20260329T030000
TZOFFSETFROM:+0100
TZOFFSETTO:+0200
TZNAME:CEST
END:DAYLIGHT
END:VTIMEZONE
END:VCALENDAR