BEGIN:VCALENDAR
VERSION:2.0
PRODID:-//wp-events-plugin.com//7.2.3.1//EN
TZID:Europe/Amsterdam
X-WR-TIMEZONE:Europe/Amsterdam
BEGIN:VEVENT
UID:7385@buurtcentrumkalsdonk.nl
DTSTART;TZID=Europe/Amsterdam:20250219T133000
DTEND;TZID=Europe/Amsterdam:20250219T163000
DTSTAMP:20250205T134644Z
URL:https://www.buurtcentrumkalsdonk.nl/agenda/kalsdonk-ontmoet/
SUMMARY:MUZIEKMIDDAG
DESCRIPTION:Gezellige muziekmiddag met bingo en dansgelegenheid!\n\nKalsdon
 k Ontmoet\n\nWoensdag 19 februari van 13.30u tot 16.30u\, eigen bijdrage i
 s 5 euro inclusief consumptie en bingo.\n\n
CATEGORIES:Sociaal
END:VEVENT
BEGIN:VTIMEZONE
TZID:Europe/Amsterdam
X-LIC-LOCATION:Europe/Amsterdam
BEGIN:STANDARD
DTSTART:20241027T020000
TZOFFSETFROM:+0200
TZOFFSETTO:+0100
TZNAME:CET
END:STANDARD
END:VTIMEZONE
END:VCALENDAR