BEGIN:VCALENDAR
VERSION:2.0
PRODID:-//wp-events-plugin.com//7.2.3.1//EN
TZID:Europe/Amsterdam
X-WR-TIMEZONE:Europe/Amsterdam
BEGIN:VEVENT
UID:3629@buurtcentrumkalsdonk.nl
DTSTART;TZID=Europe/Amsterdam:20241120T090000
DTEND;TZID=Europe/Amsterdam:20241120T120000
DTSTAMP:20231212T002005Z
URL:https://www.buurtcentrumkalsdonk.nl/agenda/kalsdonk-voor-elkaar-3-2024
 -11-20/
SUMMARY:Kalsdonk voor Elkaar
DESCRIPTION:Kalsdonk voor Elkaar Team is actief op woensdagochtend tussen 0
 9.00-12.00 uur\n\n\nMeer weten of een afspraak maken? Neem dan contact op 
 met ons!\nKALSDONK VOOR ELKAAR\nedwin.spitters@wijzijntraversegroep.nl  
  06 – 14 00 19 60
CATEGORIES:Welzijn
END:VEVENT
BEGIN:VTIMEZONE
TZID:Europe/Amsterdam
X-LIC-LOCATION:Europe/Amsterdam
BEGIN:STANDARD
DTSTART:20241027T020000
TZOFFSETFROM:+0200
TZOFFSETTO:+0100
TZNAME:CET
END:STANDARD
END:VTIMEZONE
END:VCALENDAR