BEGIN:VCALENDAR
VERSION:2.0
PRODID:-//wp-events-plugin.com//7.2.3.1//EN
TZID:Europe/Amsterdam
X-WR-TIMEZONE:Europe/Amsterdam
BEGIN:VEVENT
UID:8592@buurtcentrumkalsdonk.nl
DTSTART;TZID=Europe/Amsterdam:20260902T170000
DTEND;TZID=Europe/Amsterdam:20260902T203000
DTSTAMP:20251229T194812Z
URL:https://www.buurtcentrumkalsdonk.nl/agenda/kalsdonkse-keuken-2-2026-01
 -07-2026-01-14-2026-01-21-2026-01-28-2026-02-04-2026-02-11-2026-02-18-2026
 -02-25-2026-03-04-2026-03-11-2026-03-18-2026-03-25-2026-04-01-2026-04-08-2
 026-04-15-2-26-2026-09-02/
SUMMARY:Kalsdonkse keuken
DESCRIPTION:Wegens het succens van “Mijn Wereldkeuken” op maandagen is 
 door een aantal voormalig deelnemers besloten om op de woensdagen in het b
 uurtcentrum door te stromen naar de Kalsdonke Keuken.\nOok hier draait het
  vooral om het gezellig samen zijn rondom de maaltijd\, deze samen te bere
 iden en van elkaars kookkunsten te genieten!\n\nAanmeldingen via Edwin Spi
 tters\nE. edwin.spitters@wijzijn.nl\nT. 06 – 14 00 19 60
CATEGORIES:Sociaal
END:VEVENT
BEGIN:VTIMEZONE
TZID:Europe/Amsterdam
X-LIC-LOCATION:Europe/Amsterdam
BEGIN:DAYLIGHT
DTSTART:20260329T030000
TZOFFSETFROM:+0100
TZOFFSETTO:+0200
TZNAME:CEST
END:DAYLIGHT
END:VTIMEZONE
END:VCALENDAR