BEGIN:VCALENDAR
VERSION:2.0
PRODID:-//wp-events-plugin.com//7.2.3.1//EN
TZID:Europe/Amsterdam
X-WR-TIMEZONE:Europe/Amsterdam
BEGIN:VEVENT
UID:8601@buurtcentrumkalsdonk.nl
DTSTART;TZID=Europe/Amsterdam:20261104T170000
DTEND;TZID=Europe/Amsterdam:20261104T203000
DTSTAMP:20251229T194812Z
URL:https://www.buurtcentrumkalsdonk.nl/agenda/kalsdonkse-keuken-2-2026-01
 -07-2026-01-14-2026-01-21-2026-01-28-2026-02-04-2026-02-11-2026-02-18-2026
 -02-25-2026-03-04-2026-03-11-2026-03-18-2026-03-25-2026-04-01-2026-04-08-2
 026-04-15-2-28-2026-11-04/
SUMMARY:Kalsdonkse keuken
DESCRIPTION:Wegens het succens van “Mijn Wereldkeuken” op maandagen is 
 door een aantal voormalig deelnemers besloten om op de woensdagen in het b
 uurtcentrum door te stromen naar de Kalsdonke Keuken.\nOok hier draait het
  vooral om het gezellig samen zijn rondom de maaltijd\, deze samen te bere
 iden en van elkaars kookkunsten te genieten!\n\nAanmeldingen via Edwin Spi
 tters\nE. edwin.spitters@wijzijn.nl\nT. 06 – 14 00 19 60
CATEGORIES:Sociaal
END:VEVENT
BEGIN:VTIMEZONE
TZID:Europe/Amsterdam
X-LIC-LOCATION:Europe/Amsterdam
BEGIN:STANDARD
DTSTART:20261025T020000
TZOFFSETFROM:+0200
TZOFFSETTO:+0100
TZNAME:CET
END:STANDARD
END:VTIMEZONE
END:VCALENDAR