BEGIN:VCALENDAR
VERSION:2.0
PRODID:-//wp-events-plugin.com//7.2.3.1//EN
TZID:Europe/Amsterdam
X-WR-TIMEZONE:Europe/Amsterdam
BEGIN:VEVENT
UID:7331@buurtcentrumkalsdonk.nl
DTSTART;TZID=Europe/Amsterdam:20250625T170000
DTEND;TZID=Europe/Amsterdam:20250625T203000
DTSTAMP:20250103T213735Z
URL:https://www.buurtcentrumkalsdonk.nl/agenda/kalsdonkse-keuken-2025-06-2
 5/
SUMMARY:Kalsdonkse keuken
DESCRIPTION:Wegens het succens van “Mijn Wereldkeuken” is door een aant
 al voormalig deelnemers besloten om op de woensdagen in het buurtcentrum d
 oor te stromen naar de Kalsdonke Keuken.\nOok hier draait het vooral om he
 t gezellig samen zijn rondom de maaltijd\, deze samen te bereiden en van d
 e kookkunsten van elkaar met elkaar te genieten!\n\nDe Kalsdonkse keuken s
 tart vanaf woensdag 18 september 2024 van 17.00 tot 20.30 en zal doorgaan 
 tot eind 2025.\n\nAanmeldingen via Edwin Spitters\nE. edwin.spitters@wijzi
 jn.nl\nT. 06 – 14 00 19 60
CATEGORIES:Sociaal,Welzijn
END:VEVENT
BEGIN:VTIMEZONE
TZID:Europe/Amsterdam
X-LIC-LOCATION:Europe/Amsterdam
BEGIN:DAYLIGHT
DTSTART:20250330T030000
TZOFFSETFROM:+0100
TZOFFSETTO:+0200
TZNAME:CEST
END:DAYLIGHT
END:VTIMEZONE
END:VCALENDAR