BEGIN:VCALENDAR
VERSION:2.0
PRODID:-//wp-events-plugin.com//7.2.3.1//EN
TZID:Europe/Amsterdam
X-WR-TIMEZONE:Europe/Amsterdam
BEGIN:VEVENT
UID:7531@buurtcentrumkalsdonk.nl
DTSTART;TZID=Europe/Amsterdam:20251207T103000
DTEND;TZID=Europe/Amsterdam:20251207T130000
DTSTAMP:20250926T203609Z
URL:https://www.buurtcentrumkalsdonk.nl/agenda/kalsdonkspeld-uitreiking/
SUMMARY:KALSDONKSPELD uitreiking
DESCRIPTION:Van 10.30u tot 13.00u worden de diverse vrijwilligers weer in h
 et zonnetje gezet!
CATEGORIES:Sociaal
END:VEVENT
BEGIN:VTIMEZONE
TZID:Europe/Amsterdam
X-LIC-LOCATION:Europe/Amsterdam
BEGIN:STANDARD
DTSTART:20251026T020000
TZOFFSETFROM:+0200
TZOFFSETTO:+0100
TZNAME:CET
END:STANDARD
END:VTIMEZONE
END:VCALENDAR