BEGIN:VCALENDAR
VERSION:2.0
PRODID:-//wp-events-plugin.com//7.2.3.1//EN
TZID:Europe/Amsterdam
X-WR-TIMEZONE:Europe/Amsterdam
BEGIN:VEVENT
UID:7539@buurtcentrumkalsdonk.nl
DTSTART;TZID=Europe/Amsterdam:20251013T183000
DTEND;TZID=Europe/Amsterdam:20251013T200000
DTSTAMP:20251205T133301Z
URL:https://www.buurtcentrumkalsdonk.nl/agenda/koersbal-2025-10-13/
SUMMARY:Koersbal - Jeu de Boules
DESCRIPTION:Van origine een Jeu de Boules club maar wegens de winter nu elk
 e maandagavond 18:30u koersbal in het buurtcentrum.\nIedereen uit de buurt
  is welkom is en het is geheel vrijblijvend is\, alleen kijken en buurten 
 is ook OK!\n\nEr is een groepsapp.\nMocht het weer het toelaten\, dan stur
 en wij die specifieke ochtend een bericht in de groepsapp of er gegadigden
  zijn voor Jeu de Boules die middag. Dit kan elke middag van de week zijn 
 behalve maandagmiddag.\n\nLees ook het stukje in de Bode (25-09-25) over o
 nze club:\nhttps://www.internetbode.nl/roosendaal/458746/buurtcentrum-kals
 donk-ziet-jeu-de-boulesgroep-sinds-ontstaan-\n\n[caption id="attachment_98
 65" align="alignleft" width="300"] Jeu de Boules club speelt binnen Koersb
 al tijdens de winterperiode[/caption]
CATEGORIES:Sport&amp;Spel
END:VEVENT
BEGIN:VTIMEZONE
TZID:Europe/Amsterdam
X-LIC-LOCATION:Europe/Amsterdam
BEGIN:DAYLIGHT
DTSTART:20250330T030000
TZOFFSETFROM:+0100
TZOFFSETTO:+0200
TZNAME:CEST
END:DAYLIGHT
END:VTIMEZONE
END:VCALENDAR