BEGIN:VCALENDAR
VERSION:2.0
PRODID:-//wp-events-plugin.com//7.2.3.1//EN
TZID:Europe/Amsterdam
X-WR-TIMEZONE:Europe/Amsterdam
BEGIN:VEVENT
UID:8756@buurtcentrumkalsdonk.nl
DTSTART;TZID=Europe/Amsterdam:20260528T093000
DTEND;TZID=Europe/Amsterdam:20260528T103000
DTSTAMP:20251230T113804Z
URL:https://www.buurtcentrumkalsdonk.nl/agenda/koersbal-55-2-2026-01-08-20
 26-01-15-2026-01-22-2026-01-29-2026-02-05-2026-02-12-2026-02-19-2026-02-26
 -2026-03-05-2026-03-12-2026-03-19-2026-03-26-2026-04-02-2026-04-09-2026-04
 -16-2026-04-21-2026-05-28/
SUMMARY:Koersbal 55+
DESCRIPTION:Iedere donderdagochtend wordt er koersbal gespeeld van 9.30 uur
  tot 10.30 uur. De inloop is vanaf 9.00 uur.\nIedereen is welkom om een ke
 ertje te komen kijken of zelf mee te spelen.\nEr wordt per maand een zeer 
 bescheiden contributie gerekend (minder dan een kop koffie).\n\n\n\n
CATEGORIES:Beweging,Sport&amp;Spel
END:VEVENT
BEGIN:VTIMEZONE
TZID:Europe/Amsterdam
X-LIC-LOCATION:Europe/Amsterdam
BEGIN:DAYLIGHT
DTSTART:20260329T030000
TZOFFSETFROM:+0100
TZOFFSETTO:+0200
TZNAME:CEST
END:DAYLIGHT
END:VTIMEZONE
END:VCALENDAR