BEGIN:VCALENDAR
VERSION:2.0
PRODID:-//wp-events-plugin.com//7.2.3.1//EN
TZID:Europe/Amsterdam
X-WR-TIMEZONE:Europe/Amsterdam
BEGIN:VEVENT
UID:6529@buurtcentrumkalsdonk.nl
DTSTART;TZID=Europe/Amsterdam:20250619T093000
DTEND;TZID=Europe/Amsterdam:20250619T103000
DTSTAMP:20250103T211650Z
URL:https://www.buurtcentrumkalsdonk.nl/agenda/koersbal-55-2025-06-19/
SUMMARY:Koersbal 55+
DESCRIPTION:Elke donderdag van 9.30u tot 10.30u\nIedere donderdagochtend wo
 rdt er koersbal gespeeld. De inloop is vanaf 9.00 uur. Er wordt gespeeld v
 an 9.30 uur tot 10.30 uur.\nIedereen is welkom om een keertje te komen kij
 ken of zelf mee te spelen.\nDe kosten zijn €1\,- per maand.\nFoto's van 
 deze activiteit:\n\n\n
CATEGORIES:Beweging,Sport&amp;Spel
END:VEVENT
BEGIN:VTIMEZONE
TZID:Europe/Amsterdam
X-LIC-LOCATION:Europe/Amsterdam
BEGIN:DAYLIGHT
DTSTART:20250330T030000
TZOFFSETFROM:+0100
TZOFFSETTO:+0200
TZNAME:CEST
END:DAYLIGHT
END:VTIMEZONE
END:VCALENDAR