BEGIN:VCALENDAR
VERSION:2.0
PRODID:-//wp-events-plugin.com//7.2.3.1//EN
TZID:Europe/Amsterdam
X-WR-TIMEZONE:Europe/Amsterdam
BEGIN:VEVENT
UID:6019@buurtcentrumkalsdonk.nl
DTSTART;TZID=Europe/Amsterdam:20250319T100000
DTEND;TZID=Europe/Amsterdam:20250319T120000
DTSTAMP:20250103T211144Z
URL:https://www.buurtcentrumkalsdonk.nl/agenda/koffie-aandacht-2-2025-03-1
 9/
SUMMARY:Koffie & Aandacht
DESCRIPTION:Woensdag 2x per maand (even weken) 10.00u-12.00u
CATEGORIES:Sociaal
END:VEVENT
BEGIN:VTIMEZONE
TZID:Europe/Amsterdam
X-LIC-LOCATION:Europe/Amsterdam
BEGIN:STANDARD
DTSTART:20241027T020000
TZOFFSETFROM:+0200
TZOFFSETTO:+0100
TZNAME:CET
END:STANDARD
END:VTIMEZONE
END:VCALENDAR