BEGIN:VCALENDAR
VERSION:2.0
PRODID:-//wp-events-plugin.com//7.2.3.1//EN
TZID:Europe/Amsterdam
X-WR-TIMEZONE:Europe/Amsterdam
BEGIN:VEVENT
UID:8396@buurtcentrumkalsdonk.nl
DTSTART;TZID=Europe/Amsterdam:20261028T103000
DTEND;TZID=Europe/Amsterdam:20261028T120000
DTSTAMP:20251229T193809Z
URL:https://www.buurtcentrumkalsdonk.nl/agenda/koffieleut-3-2026-01-07-202
 6-01-14-2026-01-21-2026-01-28-2026-02-04-2026-02-11-2026-02-18-2026-02-25-
 2026-03-04-2026-03-11-2026-03-18-2026-03-25-2026-04-01-2026-04-08-2026-04-
 15-2026-04-21-2026-10-28/
SUMMARY:Koffieleut
DESCRIPTION:Woensdag 10.30u-12.00u
CATEGORIES:Sociaal
END:VEVENT
BEGIN:VTIMEZONE
TZID:Europe/Amsterdam
X-LIC-LOCATION:Europe/Amsterdam
BEGIN:STANDARD
DTSTART:20261025T020000
TZOFFSETFROM:+0200
TZOFFSETTO:+0100
TZNAME:CET
END:STANDARD
END:VTIMEZONE
END:VCALENDAR