BEGIN:VCALENDAR
VERSION:2.0
PRODID:-//wp-events-plugin.com//7.2.3.1//EN
TZID:Europe/Amsterdam
X-WR-TIMEZONE:Europe/Amsterdam
BEGIN:VEVENT
UID:8354@buurtcentrumkalsdonk.nl
DTSTART;TZID=Europe/Amsterdam:20260107T103000
DTEND;TZID=Europe/Amsterdam:20260107T120000
DTSTAMP:20251229T193809Z
URL:https://www.buurtcentrumkalsdonk.nl/agenda/koffieleut-3-2026-01-07/
SUMMARY:Koffieleut
DESCRIPTION:Woensdag 10.30u-12.00u
CATEGORIES:Sociaal
END:VEVENT
BEGIN:VTIMEZONE
TZID:Europe/Amsterdam
X-LIC-LOCATION:Europe/Amsterdam
BEGIN:STANDARD
DTSTART:20251026T020000
TZOFFSETFROM:+0200
TZOFFSETTO:+0100
TZNAME:CET
END:STANDARD
END:VTIMEZONE
END:VCALENDAR