BEGIN:VCALENDAR
VERSION:2.0
PRODID:-//wp-events-plugin.com//7.2.3.1//EN
TZID:Europe/Amsterdam
X-WR-TIMEZONE:Europe/Amsterdam
BEGIN:VEVENT
UID:8731@buurtcentrumkalsdonk.nl
DTSTART;TZID=Europe/Amsterdam:20261126T100000
DTEND;TZID=Europe/Amsterdam:20261126T113000
DTSTAMP:20251230T113340Z
URL:https://www.buurtcentrumkalsdonk.nl/agenda/lichtpuntje-bijeenkomst-202
 6-01-08-2026-01-15-2026-01-22-2026-01-29-2026-02-05-2026-02-12-2026-02-19-
 2026-02-26-2026-03-05-2026-03-12-2026-03-19-2026-03-26-2026-04-02-2026-04-
 09-2026-04-19-2026-11-26/
SUMMARY:Lichtpuntje Bijeenkomst
DESCRIPTION:Donderdag om de week 10.00u-11.30u\n\nVanuit het pastoraat word
 t deze gezellige ontmoetingsbijeenkomst gehouden voor senioren om het met 
 elkaar te hebben over verschillende thema’s uit het leven.
CATEGORIES:Sociaal
END:VEVENT
BEGIN:VTIMEZONE
TZID:Europe/Amsterdam
X-LIC-LOCATION:Europe/Amsterdam
BEGIN:STANDARD
DTSTART:20261025T020000
TZOFFSETFROM:+0200
TZOFFSETTO:+0100
TZNAME:CET
END:STANDARD
END:VTIMEZONE
END:VCALENDAR