BEGIN:VCALENDAR
VERSION:2.0
PRODID:-//wp-events-plugin.com//7.2.3.1//EN
TZID:Europe/Amsterdam
X-WR-TIMEZONE:Europe/Amsterdam
BEGIN:VEVENT
UID:8852@buurtcentrumkalsdonk.nl
DTSTART;TZID=Europe/Amsterdam:20260416T110000
DTEND;TZID=Europe/Amsterdam:20260416T120000
DTSTAMP:20251230T114300Z
URL:https://www.buurtcentrumkalsdonk.nl/agenda/mbvo-3-2026-01-08-2026-01-1
 5-2026-01-22-2026-01-29-2026-02-05-2026-02-12-2026-02-19-2026-02-26-2026-0
 3-05-2026-03-12-2026-03-19-2026-03-26-2026-04-02-2026-04-09-2026-04-16/
SUMMARY:MBVO
DESCRIPTION:Meer Bewegen Voor Ouderen\nDonderdag 11.00u-12.00u\nIedere dond
 erdagochtend wordt er door  Wijksportvereniging Kalsdonk een beweegles vo
 or ouderen (MBVO) georganiseerd.\nEen enthousiaste groep senioren is dan o
 p een leuke gezellige manier sportief bezig.\nDe lessen zijn wekelijks\, m
 et uitzondering van de schoolvakanties. Er mogen vrijblijvend 2 proeflesse
 n genomen worden. Daarna zijn er jaarlijkse kosten aan verbonden.\nVoor me
 er info kunt u mailen naar info.wsvkalsdonk@gmail.com of bellen naar Flor 
 van Ham op telefoonnummer 06 81142317\n\n\n\n\n\n\n
CATEGORIES:Beweging
END:VEVENT
BEGIN:VTIMEZONE
TZID:Europe/Amsterdam
X-LIC-LOCATION:Europe/Amsterdam
BEGIN:DAYLIGHT
DTSTART:20260329T030000
TZOFFSETFROM:+0100
TZOFFSETTO:+0200
TZNAME:CEST
END:DAYLIGHT
END:VTIMEZONE
END:VCALENDAR