BEGIN:VCALENDAR
VERSION:2.0
PRODID:-//wp-events-plugin.com//7.2.3.1//EN
TZID:Europe/Amsterdam
X-WR-TIMEZONE:Europe/Amsterdam
BEGIN:VEVENT
UID:8510@buurtcentrumkalsdonk.nl
DTSTART;TZID=Europe/Amsterdam:20260128T160000
DTEND;TZID=Europe/Amsterdam:20260128T173000
DTSTAMP:20251229T194518Z
URL:https://www.buurtcentrumkalsdonk.nl/agenda/meidenmiddag-2026-01-07-202
 6-01-14-2026-01-21-2026-01-28/
SUMMARY:Meidenmiddag
DESCRIPTION:Woensdag 16.00-17.30 uur
CATEGORIES:Jongeren
END:VEVENT
BEGIN:VTIMEZONE
TZID:Europe/Amsterdam
X-LIC-LOCATION:Europe/Amsterdam
BEGIN:STANDARD
DTSTART:20251026T020000
TZOFFSETFROM:+0200
TZOFFSETTO:+0100
TZNAME:CET
END:STANDARD
END:VTIMEZONE
END:VCALENDAR