BEGIN:VCALENDAR
VERSION:2.0
PRODID:-//wp-events-plugin.com//7.2.3.1//EN
TZID:Europe/Amsterdam
X-WR-TIMEZONE:Europe/Amsterdam
BEGIN:VEVENT
UID:7527@buurtcentrumkalsdonk.nl
DTSTART;TZID=Europe/Amsterdam:20251001T133000
DTEND;TZID=Europe/Amsterdam:20251001T163000
DTSTAMP:20250903T125830Z
URL:https://www.buurtcentrumkalsdonk.nl/agenda/muziekmiddag-2/
SUMMARY:MUZIEKMIDDAG
DESCRIPTION:-Kalsdonk Ontmoet-\n\nGezellige middag vol met muziek!\n\nHenk 
 en Annelieke zorgen voor de entertainment waarbij wegens eerder succes een
  leuke muzikale bingo wordt gedaan.\n\nOok is er voldoende dansgelegenheid
  in onze mooie zaal!\n\nDe doelgroep is plusminus vanaf 40 jaar.\n\nWoensd
 ag 1 oktober en 5 november van 13.30u tot 16.30u\, eigen bijdrage is 5 eur
 o inclusief consumptie en muziekbingo.\n\n
END:VEVENT
BEGIN:VTIMEZONE
TZID:Europe/Amsterdam
X-LIC-LOCATION:Europe/Amsterdam
BEGIN:DAYLIGHT
DTSTART:20250330T030000
TZOFFSETFROM:+0100
TZOFFSETTO:+0200
TZNAME:CEST
END:DAYLIGHT
END:VTIMEZONE
END:VCALENDAR