BEGIN:VCALENDAR
VERSION:2.0
PRODID:-//wp-events-plugin.com//7.2.3.1//EN
TZID:Europe/Amsterdam
X-WR-TIMEZONE:Europe/Amsterdam
BEGIN:VEVENT
UID:9197@buurtcentrumkalsdonk.nl
DTSTART;TZID=Europe/Amsterdam:20260304T133000
DTEND;TZID=Europe/Amsterdam:20260304T163000
DTSTAMP:20260126T145238Z
URL:https://www.buurtcentrumkalsdonk.nl/agenda/muziekmiddag-4/
SUMMARY:MUZIEKMIDDAG
DESCRIPTION:-Kalsdonk Ontmoet-\n\nGezellige middag vol met muziek!\n\nHenk 
 en Annelieke zorgen voor de entertainment waarbij wegens eerder succes een
  leuke muzikale bingo wordt gedaan.\n\nOok is er voldoende dansgelegenheid
  in onze mooie zaal!\n\nDe doelgroep is plusminus vanaf 40 jaar.\n\nWoensd
 ag 4 maart van 13.30u tot 16.30u\, eigen bijdrage is 5 euro inclusief cons
 umptie en muziekbingo.\n\n(Tik op de afbeelding voor een groter exemplaar)
CATEGORIES:Sociaal
END:VEVENT
BEGIN:VTIMEZONE
TZID:Europe/Amsterdam
X-LIC-LOCATION:Europe/Amsterdam
BEGIN:STANDARD
DTSTART:20251026T020000
TZOFFSETFROM:+0200
TZOFFSETTO:+0100
TZNAME:CET
END:STANDARD
END:VTIMEZONE
END:VCALENDAR