BEGIN:VCALENDAR
VERSION:2.0
PRODID:-//wp-events-plugin.com//7.2.3.1//EN
TZID:Europe/Amsterdam
X-WR-TIMEZONE:Europe/Amsterdam
BEGIN:VEVENT
UID:7387@buurtcentrumkalsdonk.nl
DTSTART;TZID=Europe/Amsterdam:20250430T133000
DTEND;TZID=Europe/Amsterdam:20250430T163000
DTSTAMP:20250411T131242Z
URL:https://www.buurtcentrumkalsdonk.nl/agenda/muziekmiddag/
SUMMARY:MUZIEKMIDDAG
DESCRIPTION:Kalsdonk Ontmoet\n\nGezellige middag vol met muziek!\n\nHenk en
  Annelieke zorgen voor de entertainment waarbij ook wegens eerder succes w
 eer een leuke muzikale bingo wordt gedaan. Ook is er voldoende dansgelegen
 heid in onze mooie zaal!\n\nDe doelgroep is plusminus vanaf 40 jaar.\n\nWo
 ensdag 30 april van 13.30u tot 16.30u\, eigen bijdrage is 5 euro inclusief
  consumptie en muziekbingo.\n\n
CATEGORIES:Sociaal,Sport&amp;Spel
END:VEVENT
BEGIN:VTIMEZONE
TZID:Europe/Amsterdam
X-LIC-LOCATION:Europe/Amsterdam
BEGIN:DAYLIGHT
DTSTART:20250330T030000
TZOFFSETFROM:+0100
TZOFFSETTO:+0200
TZNAME:CEST
END:DAYLIGHT
END:VTIMEZONE
END:VCALENDAR