BEGIN:VCALENDAR
VERSION:2.0
PRODID:-//wp-events-plugin.com//7.2.3.1//EN
TZID:Europe/Amsterdam
X-WR-TIMEZONE:Europe/Amsterdam
BEGIN:VEVENT
UID:7389@buurtcentrumkalsdonk.nl
DTSTART;TZID=Europe/Amsterdam:20250411T113000
DTEND;TZID=Europe/Amsterdam:20250411T133000
DTSTAMP:20250411T132225Z
URL:https://www.buurtcentrumkalsdonk.nl/agenda/opening-buitenruimte/
SUMMARY:Opening buitenruimte
DESCRIPTION:De officiële opening van de buitenruimte bij het Buurtcentrum!
 \n\nVanaf 11.30u inloop met heerlijke soep en zelfgemaakte broodjes tot on
 geveer 13.30u.\n\nOm 12.30u opening door Wethouder van der Star met de ont
 hulling van de naam van het plein
CATEGORIES:Sociaal
END:VEVENT
BEGIN:VTIMEZONE
TZID:Europe/Amsterdam
X-LIC-LOCATION:Europe/Amsterdam
BEGIN:DAYLIGHT
DTSTART:20250330T030000
TZOFFSETFROM:+0100
TZOFFSETTO:+0200
TZNAME:CEST
END:DAYLIGHT
END:VTIMEZONE
END:VCALENDAR