BEGIN:VCALENDAR
VERSION:2.0
PRODID:-//wp-events-plugin.com//7.2.3.1//EN
TZID:Europe/Amsterdam
X-WR-TIMEZONE:Europe/Amsterdam
BEGIN:VEVENT
UID:7393@buurtcentrumkalsdonk.nl
DTSTART;TZID=Europe/Amsterdam:20250622T100000
DTEND;TZID=Europe/Amsterdam:20250622T140000
DTSTAMP:20250615T115856Z
URL:https://www.buurtcentrumkalsdonk.nl/agenda/rommelmarkt-4/
SUMMARY:Rommelmarkt
DESCRIPTION:Zondag 22 juni houden we van 10.00u tot 14.00u weer een gezelli
 ge rommelmarkt in ons buurtcentrum!\nKom gerust kijken voor een leuk koopj
 e\, de toegang is gratis.\nMeer info aan de bar.
CATEGORIES:Sociaal
END:VEVENT
BEGIN:VTIMEZONE
TZID:Europe/Amsterdam
X-LIC-LOCATION:Europe/Amsterdam
BEGIN:DAYLIGHT
DTSTART:20250330T030000
TZOFFSETFROM:+0100
TZOFFSETTO:+0200
TZNAME:CEST
END:DAYLIGHT
END:VTIMEZONE
END:VCALENDAR