BEGIN:VCALENDAR
VERSION:2.0
PRODID:-//wp-events-plugin.com//7.2.3.1//EN
TZID:Europe/Amsterdam
X-WR-TIMEZONE:Europe/Amsterdam
BEGIN:VEVENT
UID:7383@buurtcentrumkalsdonk.nl
DTSTART;TZID=Europe/Amsterdam:20250226T130000
DTEND;TZID=Europe/Amsterdam:20250226T170000
DTSTAMP:20250205T134809Z
URL:https://www.buurtcentrumkalsdonk.nl/agenda/senioren-carnaval/
SUMMARY:CARNAVAL senioren
DESCRIPTION:Gezellig met elkaar!\nWoensdag 26 februari 2025 van 13.00 tot 1
 7.00 uur\nEntree 5 euro\, met hapje en drankje.\n\nWil je meer informatie 
 over het senioren carnaval?\nNeem dan contact op met:\nKalsdonk voor Elkaa
 r\nEdwin Spitters\nT 06 - 14 00 19 60\nE edwin.spitters@wijzijn.nl\n\n
CATEGORIES:Sociaal
END:VEVENT
BEGIN:VTIMEZONE
TZID:Europe/Amsterdam
X-LIC-LOCATION:Europe/Amsterdam
BEGIN:STANDARD
DTSTART:20241027T020000
TZOFFSETFROM:+0200
TZOFFSETTO:+0100
TZNAME:CET
END:STANDARD
END:VTIMEZONE
END:VCALENDAR