BEGIN:VCALENDAR
VERSION:2.0
PRODID:-//wp-events-plugin.com//7.2.3.1//EN
TZID:Europe/Amsterdam
X-WR-TIMEZONE:Europe/Amsterdam
BEGIN:VEVENT
UID:9195@buurtcentrumkalsdonk.nl
DTSTART;TZID=Europe/Amsterdam:20260112T133000
DTEND;TZID=Europe/Amsterdam:20260112T153000
DTSTAMP:20260109T192603Z
URL:https://www.buurtcentrumkalsdonk.nl/agenda/seniorenmiddag/
SUMMARY:Seniorenmiddag
DESCRIPTION:Met leuke activiteiten!\n\nMeer info over de tijden en activite
 iten aan de bar.
CATEGORIES:Sociaal
END:VEVENT
BEGIN:VTIMEZONE
TZID:Europe/Amsterdam
X-LIC-LOCATION:Europe/Amsterdam
BEGIN:STANDARD
DTSTART:20251026T020000
TZOFFSETFROM:+0200
TZOFFSETTO:+0100
TZNAME:CET
END:STANDARD
END:VTIMEZONE
END:VCALENDAR