BEGIN:VCALENDAR
VERSION:2.0
PRODID:-//wp-events-plugin.com//7.2.3.1//EN
TZID:Europe/Amsterdam
X-WR-TIMEZONE:Europe/Amsterdam
BEGIN:VEVENT
UID:8980@buurtcentrumkalsdonk.nl
DTSTART;TZID=Europe/Amsterdam:20261015T153000
DTEND;TZID=Europe/Amsterdam:20261015T170000
DTSTAMP:20251230T114659Z
URL:https://www.buurtcentrumkalsdonk.nl/agenda/sociaal-vitaal-in-kleur-2-2
 026-01-08-2026-01-15-2026-01-22-2026-01-29-2026-02-05-2026-02-12-2026-02-1
 9-2026-02-26-2026-03-05-2026-03-12-2026-03-19-2026-03-26-2026-04-02-2026-0
 4-09-2026-0-08-2026-10-15/
SUMMARY:Sociaal Vitaal in kleur
DESCRIPTION:Elke donderdag 15.30u - 17.00u\n\nSociaal Vitaal in kleur (SVIK
 ) is een programma voor migranten ouderen. De activiteit bestaat uit een b
 eweegmoment en een koffiemoment.\nTijdens de koffietijd worden er items ro
 nd zelfredzaamheid besproken.
CATEGORIES:Beweging,Sociaal
END:VEVENT
BEGIN:VTIMEZONE
TZID:Europe/Amsterdam
X-LIC-LOCATION:Europe/Amsterdam
BEGIN:DAYLIGHT
DTSTART:20260329T030000
TZOFFSETFROM:+0100
TZOFFSETTO:+0200
TZNAME:CEST
END:DAYLIGHT
END:VTIMEZONE
END:VCALENDAR