BEGIN:VCALENDAR
VERSION:2.0
PRODID:-//wp-events-plugin.com//7.2.3.1//EN
TZID:Europe/Amsterdam
X-WR-TIMEZONE:Europe/Amsterdam
BEGIN:VEVENT
UID:2141@buurtcentrumkalsdonk.nl
DTSTART;TZID=Europe/Amsterdam:20240502T153000
DTEND;TZID=Europe/Amsterdam:20240502T170000
DTSTAMP:20231208T201801Z
URL:https://www.buurtcentrumkalsdonk.nl/agenda/sociaal-vitaal-in-kleur-202
 4-05-02/
SUMMARY:Sociaal Vitaal in kleur
DESCRIPTION:Elke donderdag 15.30u - 17.00u\n\nSociaal Vitaal in kleur (SVIK
 ) is een programma voor migranten ouderen. De activiteit bestaat uit een b
 eweegmoment en een koffiemoment.\nTijdens de koffietijd worden er items ro
 nd zelfredzaamheid besproken.
CATEGORIES:Beweging,Sociaal
END:VEVENT
BEGIN:VTIMEZONE
TZID:Europe/Amsterdam
X-LIC-LOCATION:Europe/Amsterdam
BEGIN:DAYLIGHT
DTSTART:20240331T030000
TZOFFSETFROM:+0100
TZOFFSETTO:+0200
TZNAME:CEST
END:DAYLIGHT
END:VTIMEZONE
END:VCALENDAR