BEGIN:VCALENDAR
VERSION:2.0
PRODID:-//wp-events-plugin.com//7.2.3.1//EN
TZID:Europe/Amsterdam
X-WR-TIMEZONE:Europe/Amsterdam
BEGIN:VEVENT
UID:7639@buurtcentrumkalsdonk.nl
DTSTART;TZID=Europe/Amsterdam:20251222T200000
DTEND;TZID=Europe/Amsterdam:20251222T220000
DTSTAMP:20251209T131728Z
URL:https://www.buurtcentrumkalsdonk.nl/agenda/spelletjescafe/
SUMMARY:Spelletjescafe
DESCRIPTION:
CATEGORIES:Sport&amp;Spel
END:VEVENT
BEGIN:VTIMEZONE
TZID:Europe/Amsterdam
X-LIC-LOCATION:Europe/Amsterdam
BEGIN:STANDARD
DTSTART:20251026T020000
TZOFFSETFROM:+0200
TZOFFSETTO:+0100
TZNAME:CET
END:STANDARD
END:VTIMEZONE
END:VCALENDAR