BEGIN:VCALENDAR
VERSION:2.0
PRODID:-//wp-events-plugin.com//7.2.3.1//EN
TZID:Europe/Amsterdam
X-WR-TIMEZONE:Europe/Amsterdam
BEGIN:VEVENT
UID:7912@buurtcentrumkalsdonk.nl
DTSTART;TZID=Europe/Amsterdam:20261007T100000
DTEND;TZID=Europe/Amsterdam:20261007T160000
DTSTAMP:20251229T190354Z
URL:https://www.buurtcentrumkalsdonk.nl/agenda/stamtafel-kalsdonk-2-2026-0
 1-05-2026-01-07-2026-01-08-2026-01-12-2026-01-14-2026-01-15-2026-01-19-202
 6-01-21-2026-01-22-2026-01-26-2026-01-28-2026-01-29-2026-02-02-2026-02-04-
 2026-02-05-05-2026-10-07/
SUMMARY:Stamtafel Kalsdonk
DESCRIPTION:Maandag\, woensdag en donderdag van 10.00u-16.00u\nStamtafel Ro
 osendaal is een ontmoetingsplek voor inwoners uit de gemeente Roosendaal. 
 Iedereen is hier welkom voor een goed gesprek\, een gezellige sportieve of
  culturele activiteit\, mensen ontmoeten of een kop koffie. Bij de Stamtaf
 el zijn we er voor elkaar\, inwoners\, vrijwilligers en medewerkers.\nDe d
 eelname is kosteloos.\n\n
CATEGORIES:Sociaal,Welzijn
END:VEVENT
BEGIN:VTIMEZONE
TZID:Europe/Amsterdam
X-LIC-LOCATION:Europe/Amsterdam
BEGIN:DAYLIGHT
DTSTART:20260329T030000
TZOFFSETFROM:+0100
TZOFFSETTO:+0200
TZNAME:CEST
END:DAYLIGHT
END:VTIMEZONE
END:VCALENDAR