BEGIN:VCALENDAR
VERSION:2.0
PRODID:-//wp-events-plugin.com//7.2.3.1//EN
TZID:Europe/Amsterdam
X-WR-TIMEZONE:Europe/Amsterdam
BEGIN:VEVENT
UID:7634@buurtcentrumkalsdonk.nl
DTSTART;TZID=Europe/Amsterdam:20251222T100000
DTEND;TZID=Europe/Amsterdam:20251229T160000
DTSTAMP:20251209T125737Z
URL:https://www.buurtcentrumkalsdonk.nl/agenda/stamtafel/
SUMMARY:Stamtafel
DESCRIPTION:10.00-16.00uur
CATEGORIES:Sociaal,Welzijn
END:VEVENT
BEGIN:VTIMEZONE
TZID:Europe/Amsterdam
X-LIC-LOCATION:Europe/Amsterdam
BEGIN:STANDARD
DTSTART:20251026T020000
TZOFFSETFROM:+0200
TZOFFSETTO:+0100
TZNAME:CET
END:STANDARD
END:VTIMEZONE
END:VCALENDAR