BEGIN:VCALENDAR
VERSION:2.0
PRODID:-//wp-events-plugin.com//7.2.3.1//EN
TZID:Europe/Amsterdam
X-WR-TIMEZONE:Europe/Amsterdam
BEGIN:VEVENT
UID:7391@buurtcentrumkalsdonk.nl
DTSTART;TZID=Europe/Amsterdam:20250602T130000
DTEND;TZID=Europe/Amsterdam:20250602T130000
DTSTAMP:20250529T201742Z
URL:https://www.buurtcentrumkalsdonk.nl/agenda/toernooi-jeu-de-boules/
SUMMARY:Toernooi Jeu de Boules
DESCRIPTION:Jeu de Boules toernooi voor iedereen!\n\nMaandagmiddag 2 juni\n
 Aanvang: 13.00uur\n\nInschrijven aan de bar in buurtcentrum Kalsdonk\n\n\n
 \n&nbsp\;\n\n&nbsp\;\n\n&nbsp\;\n\n&nbsp\;\n\n&nbsp\;\n\n&nbsp\;\n\n&nbsp\
 ;\n\nDit toernooi is voor iedereen die het leuk vind om de uitdaging aan t
 e gaan of het gewoon eens uit wil proberen.\nGeorganiseerd in samenwerking
  met Fontys en de WijkSportVerening Kalsdonk op het "Kalsdonks Plekske" bi
 j het buurtcentrum.
CATEGORIES:Beweging,Sociaal,Sport&amp;Spel
END:VEVENT
BEGIN:VTIMEZONE
TZID:Europe/Amsterdam
X-LIC-LOCATION:Europe/Amsterdam
BEGIN:DAYLIGHT
DTSTART:20250330T030000
TZOFFSETFROM:+0100
TZOFFSETTO:+0200
TZNAME:CEST
END:DAYLIGHT
END:VTIMEZONE
END:VCALENDAR